BEGIN:VCALENDAR
VERSION:2.0
PRODID:-//Sabbat des sorcières - ECPv6.15.20//NONSGML v1.0//EN
CALSCALE:GREGORIAN
METHOD:PUBLISH
X-WR-CALNAME:Sabbat des sorcières
X-ORIGINAL-URL:https://sabbatdessorcieres.com
X-WR-CALDESC:Évènements pour Sabbat des sorcières
REFRESH-INTERVAL;VALUE=DURATION:PT1H
X-Robots-Tag:noindex
X-PUBLISHED-TTL:PT1H
BEGIN:VTIMEZONE
TZID:Europe/Paris
BEGIN:DAYLIGHT
TZOFFSETFROM:+0100
TZOFFSETTO:+0200
TZNAME:CEST
DTSTART:20250330T010000
END:DAYLIGHT
BEGIN:STANDARD
TZOFFSETFROM:+0200
TZOFFSETTO:+0100
TZNAME:CET
DTSTART:20251026T010000
END:STANDARD
BEGIN:DAYLIGHT
TZOFFSETFROM:+0100
TZOFFSETTO:+0200
TZNAME:CEST
DTSTART:20260329T010000
END:DAYLIGHT
BEGIN:STANDARD
TZOFFSETFROM:+0200
TZOFFSETTO:+0100
TZNAME:CET
DTSTART:20261025T010000
END:STANDARD
BEGIN:DAYLIGHT
TZOFFSETFROM:+0100
TZOFFSETTO:+0200
TZNAME:CEST
DTSTART:20270328T010000
END:DAYLIGHT
BEGIN:STANDARD
TZOFFSETFROM:+0200
TZOFFSETTO:+0100
TZNAME:CET
DTSTART:20271031T010000
END:STANDARD
END:VTIMEZONE
BEGIN:VEVENT
DTSTART;TZID=Europe/Paris:20260725T100000
DTEND;TZID=Europe/Paris:20260725T223000
DTSTAMP:20260424T142139
CREATED:20260424T112003Z
LAST-MODIFIED:20260424T112003Z
UID:1920-1784973600-1785018600@sabbatdessorcieres.com
SUMMARY:Cérémonie ouverture
DESCRIPTION:Plongez dans la cérémonie d’ouverture du Sabbat des Sorcières\, un instant symbolique marquant le commencement de cet événement unique. \nÀ travers un rituel inspiré des traditions ancestrales\, ce moment invite chacun à se recentrer\, à poser ses intentions et à entrer pleinement dans une atmosphère empreinte de mystère et de spiritualité. \nUne ouverture douce et immersive\, où l’énergie collective\, les symboles et la présence créent un passage vers un univers dédié à la découverte\, au partage et à l’éveil.
URL:https://sabbatdessorcieres.com/event/ceremonie-ouverture/
LOCATION:Taverne des trois corbeaux\, Stade du Collège - Avenue Georges Clémenceau\, Rieux Minervois\, Aude\, 11160\, France
ORGANIZER;CN="CDC Paranormal":MAILTO:contact@sabbatdessorcieres.com
END:VEVENT
BEGIN:VEVENT
DTSTART;TZID=Europe/Paris:20260725T103000
DTEND;TZID=Europe/Paris:20260725T230000
DTSTAMP:20260424T142139
CREATED:20260424T114448Z
LAST-MODIFIED:20260424T114448Z
UID:1924-1784975400-1785020400@sabbatdessorcieres.com
SUMMARY:Invité mystère – Révélation à venir
DESCRIPTION:Découvrez bientôt la conférence qui ce déroulera durant cette période 🙂
URL:https://sabbatdessorcieres.com/event/invite-mystere-samedi-10h30/
LOCATION:Taverne des trois corbeaux\, Stade du Collège - Avenue Georges Clémenceau\, Rieux Minervois\, Aude\, 11160\, France
CATEGORIES:Conférences
ORGANIZER;CN="CDC Paranormal":MAILTO:contact@sabbatdessorcieres.com
END:VEVENT
BEGIN:VEVENT
DTSTART;TZID=Europe/Paris:20260725T103000
DTEND;TZID=Europe/Paris:20260725T230000
DTSTAMP:20260424T142139
CREATED:20260424T115412Z
LAST-MODIFIED:20260424T115412Z
UID:1926-1784975400-1785020400@sabbatdessorcieres.com
SUMMARY:Anier Catherine : Bienfaits des sons et des vibrations
DESCRIPTION:Explorez le pouvoir des sons et des vibrations avec Catherine Anier\, à travers une conférence dédiée à leurs effets sur le corps\, les émotions et l’énergie. \nDepuis des traditions ancestrales jusqu’aux pratiques contemporaines\, les vibrations sonores sont utilisées pour favoriser l’harmonisation\, la relaxation et le rééquilibrage intérieur. Bols chantants\, fréquences\, résonance… autant d’outils qui agissent en profondeur sur notre état de conscience et notre bien-être global. \nUne conférence immersive pour comprendre comment le son peut devenir un véritable outil de transformation\, de recentrage et d’élévation.
URL:https://sabbatdessorcieres.com/event/anier-catherine-bienfaits-des-sons-et-des-vibrations/
LOCATION:Le cercle des anciens\, Stade du Collège - Avenue Georges Clémenceau\, Rieux Minervois\, Aude\, 11160\, France
CATEGORIES:Conférences
ORGANIZER;CN="CDC Paranormal":MAILTO:contact@sabbatdessorcieres.com
END:VEVENT
END:VCALENDAR